BEGIN:VCALENDAR
VERSION:2.0
PRODID:-//Energy Smart NOLA - ECPv6.15.17//NONSGML v1.0//EN
CALSCALE:GREGORIAN
METHOD:PUBLISH
X-WR-CALNAME:Energy Smart NOLA
X-ORIGINAL-URL:https://energysmartnola.info
X-WR-CALDESC:Events for Energy Smart NOLA
REFRESH-INTERVAL;VALUE=DURATION:PT1H
X-Robots-Tag:noindex
X-PUBLISHED-TTL:PT1H
BEGIN:VTIMEZONE
TZID:America/Chicago
BEGIN:DAYLIGHT
TZOFFSETFROM:-0600
TZOFFSETTO:-0500
TZNAME:CDT
DTSTART:20250309T080000
END:DAYLIGHT
BEGIN:STANDARD
TZOFFSETFROM:-0500
TZOFFSETTO:-0600
TZNAME:CST
DTSTART:20251102T070000
END:STANDARD
BEGIN:DAYLIGHT
TZOFFSETFROM:-0600
TZOFFSETTO:-0500
TZNAME:CDT
DTSTART:20260308T080000
END:DAYLIGHT
BEGIN:STANDARD
TZOFFSETFROM:-0500
TZOFFSETTO:-0600
TZNAME:CST
DTSTART:20261101T070000
END:STANDARD
BEGIN:DAYLIGHT
TZOFFSETFROM:-0600
TZOFFSETTO:-0500
TZNAME:CDT
DTSTART:20270314T080000
END:DAYLIGHT
BEGIN:STANDARD
TZOFFSETFROM:-0500
TZOFFSETTO:-0600
TZNAME:CST
DTSTART:20271107T070000
END:STANDARD
END:VTIMEZONE
BEGIN:VEVENT
DTSTART;TZID=America/Chicago:20260328T130000
DTEND;TZID=America/Chicago:20260328T180000
DTSTAMP:20260422T064756
CREATED:20260326T150741Z
LAST-MODIFIED:20260326T150741Z
UID:19228-1774702800-1774720800@energysmartnola.info
SUMMARY:3rd Annual Better New Orleans Block Party
DESCRIPTION:Energy Smart will be one of the community resource partners at the Better New Orleans Block Party on Saturday\, March 28. Stop by our table to learn how you can save energy and reduce your utility bill. While you’re there\, be sure to sign-up for your free home energy assessment. A free home energy assessment is available to all Entergy New Orleans customers and is the first step to saving energy and money.
URL:https://energysmartnola.info/event/3rd-annual-better-new-orleans-block-party/
LOCATION:St. Roch Ave from Marais to Villere
END:VEVENT
END:VCALENDAR